BEGIN:VCALENDAR
VERSION:2.0
PRODID:-//Marketing Special Sections - ECPv6.1.3//NONSGML v1.0//EN
CALSCALE:GREGORIAN
METHOD:PUBLISH
X-WR-CALNAME:Marketing Special Sections
X-ORIGINAL-URL:https://bamedia.news
X-WR-CALDESC:Events for Marketing Special Sections
REFRESH-INTERVAL;VALUE=DURATION:PT1H
X-Robots-Tag:noindex
X-PUBLISHED-TTL:PT1H
BEGIN:VTIMEZONE
TZID:UTC
BEGIN:STANDARD
TZOFFSETFROM:+0000
TZOFFSETTO:+0000
TZNAME:UTC
DTSTART:20210101T000000
END:STANDARD
END:VTIMEZONE
BEGIN:VEVENT
DTSTART;VALUE=DATE:20210716
DTEND;VALUE=DATE:20210717
DTSTAMP:20260424T153824
CREATED:20210701T201922Z
LAST-MODIFIED:20210701T204008Z
UID:80-1626393600-1626479999@bamedia.news
SUMMARY:Who's Who in Real Estate
DESCRIPTION:Whos’ Who in Real Estate – 32-page Tab in the Weeklies
URL:https://bamedia.news/event/whos-who-in-real-estate/
LOCATION:BANG Weeklies
CATEGORIES:Special Secitons
ATTACH;FMTTYPE=image/jpeg:https://bamedia.news/wp-content/uploads/2021/07/Whos-Who-in-RE.jpg
END:VEVENT
END:VCALENDAR