BEGIN:VCALENDAR
VERSION:2.0
PRODID:-//Marketing Special Sections - ECPv6.1.3//NONSGML v1.0//EN
CALSCALE:GREGORIAN
METHOD:PUBLISH
X-ORIGINAL-URL:https://bamedia.news
X-WR-CALDESC:Events for Marketing Special Sections
REFRESH-INTERVAL;VALUE=DURATION:PT1H
X-Robots-Tag:noindex
X-PUBLISHED-TTL:PT1H
BEGIN:VTIMEZONE
TZID:UTC
BEGIN:STANDARD
TZOFFSETFROM:+0000
TZOFFSETTO:+0000
TZNAME:UTC
DTSTART:20210101T000000
END:STANDARD
END:VTIMEZONE
BEGIN:VEVENT
DTSTART;VALUE=DATE:20210719
DTEND;VALUE=DATE:20210720
DTSTAMP:20260424T153941
CREATED:20210701T202116Z
LAST-MODIFIED:20210701T202116Z
UID:82-1626652800-1626739199@bamedia.news
SUMMARY:Who's Who in Real Estate
DESCRIPTION:Who’s Who in Real Estate – 16-page Tab in East Bay Times and The Mercury News
URL:https://bamedia.news/event/whos-who-in-real-estate-2/
END:VEVENT
END:VCALENDAR